BEGIN:VCALENDAR
VERSION:2.0
PRODID:-//Eventin//Event Calendar//EN
CALSCALE:GREGORIAN
METHOD:PUBLISH
BEGIN:VEVENT
UID:c61627b434f028dbe11e9009546a73bc@music.su.ac.th
SUMMARY:SIlpakorn International Guitar Summer Camp 2026
DESCRIPTION:The 12th edition SIlpakorn International Guitar Summer Camp 202
 6 will be held from May 18-21\, 2026 at Baan Mae Nam Resort\, on the banks 
 of the Mae Klong River\, Samut Songkhram Province.Artists in residenceMr. R
 icardo Hwang (The republic of Korea)Mr. Naoki Ikuta (Japan)Mr. Daniel Tjahj
 a (Indonesia)Luthier in residenceMr. Sang Gil Kim (The republic of Korea)Ac
 tivities during the training:- Relationship-building activities between int
 ernational guitarists.- Rehearsing with a guitar ensemble for the closing c
 oncert ceremony of the Southeast Asia Guitar Festival and Performance Award
 s 2026 at Silpakorn University (Wang Tha Phra Campus) on May 24\, 2026.- Pa
 rticipating in a guitar practice technique workshop with international inst
 ructors- Attending guitar Clinic for guitar inspection and maintenance advi
 ce from professional guitar maker Mr. Sang Gil Kim (Korea).- Attending conc
 erts by international ArtistsThose interested can apply via Inbox on the Si
 lpakorn International Guitar Summer Camp Facebook page and please pay a sup
 port fee of 5\,000 baht to cover equipment maintenance\, transportation\, a
 ccommodation\, and food for the entire 4-day activity by April 20\, 2026.*S
 pecial opportunity: The Camp’s participants can enter the Southeast Asia 
 Guitar Performance Awards 2026 in the Artistic Awards or Young Artist Award
 s categories without paying an additional application fee!More information 
 please contact: +66617469823
LOCATION:Samut Songkhram Province.
DTSTAMP:20260425T151654Z
DTSTART:20260518T010000Z
DTEND:20260521T100000Z
END:VEVENT
END:VCALENDAR
